BEGIN:VCALENDAR
VERSION:2.0
PRODID:-//Plone.org//NONSGML plone.app.event//EN
X-WR-TIMEZONE:Europe/Berlin
BEGIN:VEVENT
SUMMARY:Contractual Political Ideas in the Timurid Period
DTSTART;TZID=Europe/Berlin:20180621T180000
DTEND;TZID=Europe/Berlin:20180621T200000
DTSTAMP:20260422T063115Z
UID:305bb74525b5458c8a5a49341c73a270@www.uni-marburg.de
ATTENDEE;CN="Evrim Binbaş, Bonn";ROLE=REQ-PARTICIPANT:Evrim Binbaş, Bonn
CREATED:20180503T191212Z
DESCRIPTION:https://www.uni-marburg.de/de/cnms/aktuelles/termine/contractu
 al-political-ideas-in-the-timurid-period\nVortrag von Evrim Binbaş im Rah
 men der Vortragsreihe "The Early Modern Middle East" im Sommersemester 201
 8
LAST-MODIFIED:20180503T191225Z
LOCATION:CNMS\, Deutschhausstr. 12\, Hörsaal 00A26
URL:https://www.uni-marburg.de/de/cnms/aktuelles/termine/contractual-polit
 ical-ideas-in-the-timurid-period
END:VEVENT
BEGIN:VTIMEZONE
TZID:Europe/Berlin
X-LIC-LOCATION:Europe/Berlin
BEGIN:DAYLIGHT
DTSTART:20180325T030000
TZNAME:CEST
TZOFFSETFROM:+0100
TZOFFSETTO:+0200
END:DAYLIGHT
END:VTIMEZONE
END:VCALENDAR
