BEGIN:VCALENDAR
VERSION:2.0
PRODID:-//Plone.org//NONSGML plone.app.event//EN
X-WR-TIMEZONE:Europe/Berlin
BEGIN:VEVENT
SUMMARY:Corporeality\, Custodial Exile\, and Coercion: Puppet Princes in E
 arly Modern Irano-Islamic History
DTSTART;TZID=Europe/Berlin:20180524T181500
DTEND;TZID=Europe/Berlin:20180524T200000
DTSTAMP:20260421T231526Z
UID:382331ac9fea4cd986603acbd5199b0e@www.uni-marburg.de
ATTENDEE;CN="Colin Mitchell, Halifax/Marburg";ROLE=REQ-PARTICIPANT:Colin M
 itchell, Halifax/Marburg
CREATED:20180503T190701Z
DESCRIPTION:https://www.uni-marburg.de/de/cnms/aktuelles/termine/corporeal
 ity-custodial-exile-and-coercion-puppet-princes-in-early-modern-irano-isla
 mic-history\nVortrag von Colin Mitchell im Rahmen der Vortragsreihe "The E
 arly Modern Middle East" im Sommersemester 2018
LAST-MODIFIED:20180518T133331Z
LOCATION:CNMS\, Deutschhausstr. 12\, Hörsaal 00A26
URL:https://www.uni-marburg.de/de/cnms/aktuelles/termine/corporeality-cust
 odial-exile-and-coercion-puppet-princes-in-early-modern-irano-islamic-hist
 ory
END:VEVENT
BEGIN:VTIMEZONE
TZID:Europe/Berlin
X-LIC-LOCATION:Europe/Berlin
BEGIN:DAYLIGHT
DTSTART:20180325T030000
TZNAME:CEST
TZOFFSETFROM:+0100
TZOFFSETTO:+0200
END:DAYLIGHT
END:VTIMEZONE
END:VCALENDAR
