BEGIN:VCALENDAR
VERSION:2.0
PRODID:-//Plone.org//NONSGML plone.app.event//EN
X-WR-TIMEZONE:Europe/Berlin
BEGIN:VEVENT
SUMMARY:Das digitale Archiv des algerischen Hirak - Wie baut man einen Cor
 pus?
DTSTART;TZID=Europe/Berlin:20191107T093000
DTEND;TZID=Europe/Berlin:20191107T161000
DTSTAMP:20260421T230946Z
UID:09e63cf20c0a45d797e441e827f94526@www.uni-marburg.de
CREATED:20191021T120615Z
DESCRIPTION:https://www.uni-marburg.de/de/cnms/aktuelles/termine/das-digit
 ale-archiv-des-algerischen-hirak-wie-baut-man-einen-corpus\n
LAST-MODIFIED:20191021T120950Z
LOCATION:CNMS Deutschhausstraße 12\, 35037 Marburg
URL:https://www.uni-marburg.de/de/cnms/aktuelles/termine/das-digitale-arch
 iv-des-algerischen-hirak-wie-baut-man-einen-corpus
END:VEVENT
BEGIN:VTIMEZONE
TZID:Europe/Berlin
X-LIC-LOCATION:Europe/Berlin
BEGIN:STANDARD
DTSTART:20191027T020000
TZNAME:CET
TZOFFSETFROM:+0200
TZOFFSETTO:+0100
END:STANDARD
END:VTIMEZONE
END:VCALENDAR
