BEGIN:VCALENDAR
VERSION:2.0
PRODID:-//Plone.org//NONSGML plone.app.event//EN
X-WR-TIMEZONE:Europe/Berlin
BEGIN:VEVENT
SUMMARY:Das medizinische Vermächtnis der ‘toten‘ Sprache Akkadisch
DTSTART;VALUE=DATE:20240705
DTEND;VALUE=DATE:20240706
DTSTAMP:20260424T100659Z
UID:5cc0b4a51dea40eab394d8aee2abbe55@www.uni-marburg.de
ATTENDEE;CN="Markham J. Geller";ROLE=REQ-PARTICIPANT:Markham J. Geller
CREATED:20240606T134242Z
DESCRIPTION:https://www.uni-marburg.de/de/cnms/aktuelles/termine/das-mediz
 inische-vermaechtnis-der-toten-sprache-akkadisch\nMarburger Gepräche zur 
 Alten Heilkunde (öffentliche Keynote)
LAST-MODIFIED:20240606T134248Z
LOCATION:Landgrafensaal\, Hess. Staatsarchiv\, Friedrichsplatz 15
URL:https://www.uni-marburg.de/de/cnms/aktuelles/termine/das-medizinische-
 vermaechtnis-der-toten-sprache-akkadisch
END:VEVENT
END:VCALENDAR
