BEGIN:VCALENDAR
VERSION:2.0
PRODID:-//Plone.org//NONSGML plone.app.event//EN
X-WR-TIMEZONE:Europe/Berlin
BEGIN:VEVENT
SUMMARY:Das Schicksal dreier Stämme: Die Juden Arabiens zur Zeit Muhammad
 s
DTSTART;TZID=Europe/Berlin:20180628T181500
DTEND;TZID=Europe/Berlin:20180628T200000
DTSTAMP:20260424T132736Z
UID:eaa44b3b4b744660ad67b43db3f767e8@www.uni-marburg.de
ATTENDEE;CN="Prof. Dr. Marco Schöller Westfälische Wilhelms-Universität
  Münster";ROLE=REQ-PARTICIPANT:Prof. Dr. Marco Schöller Westfälische Wi
 lhelms-Universität Münster
CREATED:20180503T191446Z
DESCRIPTION:https://www.uni-marburg.de/de/cnms/aktuelles/termine/das-schic
 ksal-dreier-staemme-die-juden-arabiens-zur-zeit-muhammads\nVortrag von Her
 rn Prof. Dr. Marco Schöller\, Westfälische Wilhelms-Universität Münste
 r
LAST-MODIFIED:20180504T092247Z
LOCATION:CNMS\, Deutschhausstraße 12\, Hörsaal 00A26
URL:https://www.uni-marburg.de/de/cnms/aktuelles/termine/das-schicksal-dre
 ier-staemme-die-juden-arabiens-zur-zeit-muhammads
END:VEVENT
BEGIN:VTIMEZONE
TZID:Europe/Berlin
X-LIC-LOCATION:Europe/Berlin
BEGIN:DAYLIGHT
DTSTART:20180325T030000
TZNAME:CEST
TZOFFSETFROM:+0100
TZOFFSETTO:+0200
END:DAYLIGHT
END:VTIMEZONE
END:VCALENDAR
