BEGIN:VCALENDAR
VERSION:2.0
PRODID:-//Plone.org//NONSGML plone.app.event//EN
X-WR-TIMEZONE:Europe/Berlin
BEGIN:VEVENT
SUMMARY:Das Verhältnis von 'Körper' und 'Seele' in Gesundheitskonzeption
 en der griechischen Antike
DTSTART;TZID=Europe/Berlin:20211129T180000
DTEND;TZID=Europe/Berlin:20211129T200000
DTSTAMP:20260424T233026Z
UID:76dab248352b4ce8960527db407c52eb@www.uni-marburg.de
ATTENDEE;CN="Prof. Dr. Sabine Föllinger (Klassische Philologie, Philipps-
 Universität Marburg)";ROLE=REQ-PARTICIPANT:Prof. Dr. Sabine Föllinger (K
 lassische Philologie, Philipps-Universität Marburg)
CREATED:20211101T121242Z
DESCRIPTION:https://www.uni-marburg.de/de/cnms/aktuelles/termine/das-verha
 eltnis-von-koerper-und-seele-in-gesundheitskonzeptionen-der-griechischen-a
 ntike\nDie Ringvorlesung des "Marburger Centrum(s) für Antike Welt" wird 
 im Wintersemester 2021/22 unter dem Hashtag #StayingAliveAntiquity untersc
 hiedliche Referentinnen und Referenten zum übergeordneten Thema "Gesundhe
 it und Krankheit im Altertum" zu Wort kommen lassen.
LAST-MODIFIED:20211101T121303Z
LOCATION:Hybrid: Digital via WebEx / In Präsenz: Biegenstraße 14\, Hörs
 aalgebäude (B | 01)\, +1/0020
URL:https://www.uni-marburg.de/de/cnms/aktuelles/termine/das-verhaeltnis-v
 on-koerper-und-seele-in-gesundheitskonzeptionen-der-griechischen-antike
END:VEVENT
BEGIN:VTIMEZONE
TZID:Europe/Berlin
X-LIC-LOCATION:Europe/Berlin
BEGIN:STANDARD
DTSTART:20211031T020000
TZNAME:CET
TZOFFSETFROM:+0200
TZOFFSETTO:+0100
END:STANDARD
END:VTIMEZONE
END:VCALENDAR
