BEGIN:VCALENDAR
VERSION:2.0
PRODID:-//Plone.org//NONSGML plone.app.event//EN
X-WR-TIMEZONE:Europe/Berlin
BEGIN:VEVENT
SUMMARY:Der Briefwechsel Ernst Herzfelds und Friedrich-Werner Graf von der
  Schulenburgs: ein wissenschaftliches Editionsprojekt
DTSTART;TZID=Europe/Berlin:20240229T180000
DTEND;TZID=Europe/Berlin:20240229T200000
DTSTAMP:20260424T232146Z
UID:467124b39559456abadf815da7a10b47@www.uni-marburg.de
ATTENDEE;CN="Helwing / Schulze / Bagherpour / Nagel / Devos";ROLE=REQ-PART
 ICIPANT:Helwing / Schulze / Bagherpour / Nagel / Devos
CREATED:20231005T093304Z
DESCRIPTION:https://www.uni-marburg.de/de/cnms/aktuelles/termine/der-brief
 wechsel-ernst-herzfelds-und-friedrich-werner-graf-von-der-schulenburgs-ein
 -wissenschaftliches-editionsprojekt\n
LAST-MODIFIED:20231005T093311Z
LOCATION:CNMS\, Hörsaal 00A26\, Deutschhausstraße 12
URL:https://www.uni-marburg.de/de/cnms/aktuelles/termine/der-briefwechsel-
 ernst-herzfelds-und-friedrich-werner-graf-von-der-schulenburgs-ein-wissens
 chaftliches-editionsprojekt
END:VEVENT
BEGIN:VTIMEZONE
TZID:Europe/Berlin
X-LIC-LOCATION:Europe/Berlin
BEGIN:STANDARD
DTSTART:20231029T020000
TZNAME:CET
TZOFFSETFROM:+0200
TZOFFSETTO:+0100
END:STANDARD
END:VTIMEZONE
END:VCALENDAR
