BEGIN:VCALENDAR
VERSION:2.0
PRODID:-//Plone.org//NONSGML plone.app.event//EN
X-WR-TIMEZONE:Europe/Berlin
BEGIN:VEVENT
SUMMARY:Der Hausbesuch des altorientalischen Heilers
DTSTART;TZID=Europe/Berlin:20211101T180000
DTEND;TZID=Europe/Berlin:20211101T200000
DTSTAMP:20260420T004606Z
UID:ab86497f5dd64a6e9d29f6ae073f71d0@www.uni-marburg.de
ATTENDEE;CN="Nils P. Heeßel (Philipps-Universität Marburg, Altorientalis
 tik)";ROLE=REQ-PARTICIPANT:Nils P. Heeßel (Philipps-Universität Marburg,
  Altorientalistik)
CREATED:20211101T113045Z
DESCRIPTION:https://www.uni-marburg.de/de/cnms/aktuelles/termine/der-hausb
 esuch-des-altorientalischen-heilers\nDie Ringvorlesung des "Marburger Cent
 rum(s) für Antike Welt" wird im Wintersemester 2021/22 unter dem Hashtag 
 #StayingAliveAntiquity unterschiedliche Referentinnen und Referenten zum 
 übergeordneten Thema "Gesundheit und Krankheit im Altertum" zu Wort komme
 n lassen.
LAST-MODIFIED:20211101T113117Z
LOCATION:Hybrid: Digital via WebEx / In Präsenz: Biegenstraße 14\, Hörs
 aalgebäude (B | 01)\, +1/0020
URL:https://www.uni-marburg.de/de/cnms/aktuelles/termine/der-hausbesuch-de
 s-altorientalischen-heilers
END:VEVENT
BEGIN:VTIMEZONE
TZID:Europe/Berlin
X-LIC-LOCATION:Europe/Berlin
BEGIN:STANDARD
DTSTART:20211031T020000
TZNAME:CET
TZOFFSETFROM:+0200
TZOFFSETTO:+0100
END:STANDARD
END:VTIMEZONE
END:VCALENDAR
