BEGIN:VCALENDAR
VERSION:2.0
PRODID:-//Plone.org//NONSGML plone.app.event//EN
X-WR-TIMEZONE:Europe/Berlin
BEGIN:VEVENT
SUMMARY:Die Deutschen und der islamische Orient - schon in der Aufklärung
  ein zutiefst gespaltenes Verhältnis
DTSTART;TZID=Europe/Berlin:20191029T161500
DTEND;TZID=Europe/Berlin:20191029T174500
DTSTAMP:20260425T160354Z
UID:1096b07759274c488e4b4981c02c2dd3@www.uni-marburg.de
CREATED:20191001T152701Z
DESCRIPTION:https://www.uni-marburg.de/de/cnms/aktuelles/termine/die-deuts
 chen-und-der-islamische-orient-schon-in-der-aufklaerung-ein-zutiefst-gespa
 ltenes-verhaeltnis\nDr. Joseph Croitoru
LAST-MODIFIED:20191024T102210Z
LOCATION:CNMS\, Deutschhausstr. 12\, Raum 01A03
URL:https://www.uni-marburg.de/de/cnms/aktuelles/termine/die-deutschen-und
 -der-islamische-orient-schon-in-der-aufklaerung-ein-zutiefst-gespaltenes-v
 erhaeltnis
END:VEVENT
BEGIN:VTIMEZONE
TZID:Europe/Berlin
X-LIC-LOCATION:Europe/Berlin
BEGIN:STANDARD
DTSTART:20191027T020000
TZNAME:CET
TZOFFSETFROM:+0200
TZOFFSETTO:+0100
END:STANDARD
END:VTIMEZONE
END:VCALENDAR
