BEGIN:VCALENDAR
VERSION:2.0
PRODID:-//Plone.org//NONSGML plone.app.event//EN
X-WR-TIMEZONE:Europe/Berlin
BEGIN:VEVENT
SUMMARY:Covid19: Teaching and Research in Times of Pandemic: State of the 
 Situation in Tunisia and Germany
DTSTART;TZID=Europe/Berlin:20210219T180000
DTEND;TZID=Europe/Berlin:20210219T200000
DTSTAMP:20260419T163242Z
UID:24b697ab05ba4158a9f87089562bd836@www.uni-marburg.de
CREATED:20210216T075205Z
DESCRIPTION:https://www.uni-marburg.de/de/cnms/aktuelles/termine/digitales
 -treffen-covid19\n
LAST-MODIFIED:20210216T103910Z
LOCATION:Digital (Zoom)
URL:https://www.uni-marburg.de/de/cnms/aktuelles/termine/digitales-treffen
 -covid19
END:VEVENT
BEGIN:VTIMEZONE
TZID:Europe/Berlin
X-LIC-LOCATION:Europe/Berlin
BEGIN:STANDARD
DTSTART:20201025T020000
TZNAME:CET
TZOFFSETFROM:+0200
TZOFFSETTO:+0100
END:STANDARD
END:VTIMEZONE
END:VCALENDAR
