BEGIN:VCALENDAR
VERSION:2.0
PRODID:-//Plone.org//NONSGML plone.app.event//EN
X-WR-TIMEZONE:Europe/Berlin
BEGIN:VEVENT
SUMMARY:Diskussionsrunde mit dem Oberbürgermeister der Stadt Marburg Dr. 
 Thomas Spies und der Vorsitzenden des Ausländerbeirats Goarik Gareyan-Pet
 rosyan
DTSTART;TZID=Europe/Berlin:20180705T180000
DTEND;TZID=Europe/Berlin:20180705T200000
DTSTAMP:20260424T235837Z
UID:b8ffc3039a8c4824a31d0dc4db24e9fb@www.uni-marburg.de
ATTENDEE;CN="Oberbürgermeister Dr. Thomas Spies,";ROLE=REQ-PARTICIPANT:Ob
 erbürgermeister Dr. Thomas Spies,
ATTENDEE;CN="Goarik Gareyan-Petrosyan (Vorsitzende des Ausländerbeirats d
 er Stadt Marburg)";ROLE=REQ-PARTICIPANT:Goarik Gareyan-Petrosyan (Vorsitze
 nde des Ausländerbeirats der Stadt Marburg)
CREATED:20180703T114327Z
DESCRIPTION:https://www.uni-marburg.de/de/cnms/aktuelles/termine/diskussio
 nsrunde-mit-oberbuergermeister-dr-thomas-spies-und-der-vorsitzenden-des-au
 slaenderbeirats-frau-gareyan\nVeranstaltung des DAAD-geförderten Tandempr
 ogramms "CNMS meets Refugees"
LAST-MODIFIED:20180703T115808Z
LOCATION:Centrum für Nah- und Mitteloststudien\, Deutschhausstr. 12\, Rau
 m 01A03
URL:https://www.uni-marburg.de/de/cnms/aktuelles/termine/diskussionsrunde-
 mit-oberbuergermeister-dr-thomas-spies-und-der-vorsitzenden-des-auslaender
 beirats-frau-gareyan
END:VEVENT
BEGIN:VTIMEZONE
TZID:Europe/Berlin
X-LIC-LOCATION:Europe/Berlin
BEGIN:DAYLIGHT
DTSTART:20180325T030000
TZNAME:CEST
TZOFFSETFROM:+0100
TZOFFSETTO:+0200
END:DAYLIGHT
END:VTIMEZONE
END:VCALENDAR
