BEGIN:VCALENDAR
VERSION:2.0
PRODID:-//Plone.org//NONSGML plone.app.event//EN
X-WR-TIMEZONE:Europe/Berlin
BEGIN:VEVENT
SUMMARY:Doktorandenkolloquium Islamwissenschaft
DTSTART;TZID=Europe/Berlin:20250711T100000
DTSTAMP:20260420T192252Z
UID:482f27505a7043c5a6558f406c407499@www.uni-marburg.de
ATTENDEE;CN="Katja Symank; Mehmood Ali Khan; Ibrahim Mohammad Ahmad Shahee
 n; Rana Aly; Saadat Ahmed; Derya Buğur";ROLE=REQ-PARTICIPANT:Katja Symank
 ; Mehmood Ali Khan; Ibrahim Mohammad Ahmad Shaheen; Rana Aly; Saadat Ahmed
 ; Derya Buğur
CREATED:20250522T160133Z
DESCRIPTION:https://www.uni-marburg.de/de/cnms/aktuelles/termine/doktorand
 enkolloquium-islamwissenschaft\n
LAST-MODIFIED:20250522T160456Z
LOCATION:CNMS
URL:https://www.uni-marburg.de/de/cnms/aktuelles/termine/doktorandenkolloq
 uium-islamwissenschaft
END:VEVENT
BEGIN:VTIMEZONE
TZID:Europe/Berlin
X-LIC-LOCATION:Europe/Berlin
BEGIN:DAYLIGHT
DTSTART:20250330T030000
TZNAME:CEST
TZOFFSETFROM:+0100
TZOFFSETTO:+0200
END:DAYLIGHT
END:VTIMEZONE
END:VCALENDAR
