BEGIN:VCALENDAR
VERSION:2.0
PRODID:-//Plone.org//NONSGML plone.app.event//EN
X-WR-TIMEZONE:Europe/Berlin
BEGIN:VEVENT
SUMMARY:Dokumentarfilmreihe: Everyday Rebellion
DTSTART;TZID=Europe/Berlin:20200127T180000
DTEND;TZID=Europe/Berlin:20200127T200000
DTSTAMP:20260421T172537Z
UID:85fe49eea46249e69dc33e6f42304dc2@www.uni-marburg.de
CREATED:20191017T134659Z
DESCRIPTION:https://www.uni-marburg.de/de/cnms/aktuelles/termine/dokumenta
 rfilmreihe-everyday-rebellion\n
LAST-MODIFIED:20191017T135535Z
LOCATION:Capitol Filmkunsttheater Marburg\, Biegenstr. 8\, 35037 Marburg
URL:https://www.uni-marburg.de/de/cnms/aktuelles/termine/dokumentarfilmrei
 he-everyday-rebellion
END:VEVENT
BEGIN:VTIMEZONE
TZID:Europe/Berlin
X-LIC-LOCATION:Europe/Berlin
BEGIN:STANDARD
DTSTART:20191027T020000
TZNAME:CET
TZOFFSETFROM:+0200
TZOFFSETTO:+0100
END:STANDARD
END:VTIMEZONE
END:VCALENDAR
