BEGIN:VCALENDAR
VERSION:2.0
PRODID:-//Plone.org//NONSGML plone.app.event//EN
X-WR-TIMEZONE:Europe/Berlin
BEGIN:VEVENT
SUMMARY:Dokumentarfilmreihe: The Uprising
DTSTART;TZID=Europe/Berlin:20200120T180000
DTEND;TZID=Europe/Berlin:20200120T200000
DTSTAMP:20260421T224406Z
UID:4977c4490f834916929de99c6b41d3c1@www.uni-marburg.de
CREATED:20191017T133819Z
DESCRIPTION:https://www.uni-marburg.de/de/cnms/aktuelles/termine/dokumenta
 rfilmreihe-the-uprising\n
LAST-MODIFIED:20191017T135342Z
LOCATION:Capitol Filmkunsttheater Marburg\, Biegenstr. 8\, 35037 Marburg
URL:https://www.uni-marburg.de/de/cnms/aktuelles/termine/dokumentarfilmrei
 he-the-uprising
END:VEVENT
BEGIN:VTIMEZONE
TZID:Europe/Berlin
X-LIC-LOCATION:Europe/Berlin
BEGIN:STANDARD
DTSTART:20191027T020000
TZNAME:CET
TZOFFSETFROM:+0200
TZOFFSETTO:+0100
END:STANDARD
END:VTIMEZONE
END:VCALENDAR
