BEGIN:VCALENDAR
VERSION:2.0
PRODID:-//Plone.org//NONSGML plone.app.event//EN
X-WR-TIMEZONE:Europe/Berlin
BEGIN:VEVENT
SUMMARY:A revolution in rhyme: Poetic cooption under the Islamic Republic
DTSTART;TZID=Europe/Berlin:20220427T161500
DTEND;TZID=Europe/Berlin:20220427T174500
DTSTAMP:20260425T225636Z
UID:f9c954b533784956a8a2006d45305110@www.uni-marburg.de
ATTENDEE;CN="Dr. Fatemeh Shams (University of Pennsylvania)";ROLE=REQ-PART
 ICIPANT:Dr. Fatemeh Shams (University of Pennsylvania)
CREATED:20220413T161900Z
DESCRIPTION:https://www.uni-marburg.de/de/cnms/aktuelles/termine/dr-fateme
 h-shams-univ-pennsylvania-a-revolution-in-rhyme-poetic-cooption-under-the-
 islamic-republic\n
LAST-MODIFIED:20220413T172728Z
LOCATION:Raum 00A26\, Deutschhausstraße 12\, 35032 Marburg
URL:https://www.uni-marburg.de/de/cnms/aktuelles/termine/dr-fatemeh-shams-
 univ-pennsylvania-a-revolution-in-rhyme-poetic-cooption-under-the-islamic-
 republic
END:VEVENT
BEGIN:VTIMEZONE
TZID:Europe/Berlin
X-LIC-LOCATION:Europe/Berlin
BEGIN:DAYLIGHT
DTSTART:20220327T030000
TZNAME:CEST
TZOFFSETFROM:+0100
TZOFFSETTO:+0200
END:DAYLIGHT
END:VTIMEZONE
END:VCALENDAR
