BEGIN:VCALENDAR
VERSION:2.0
PRODID:-//Plone.org//NONSGML plone.app.event//EN
X-WR-TIMEZONE:Europe/Berlin
BEGIN:VEVENT
SUMMARY:Dr. Michael Lüders: Wie im Roman 'Der Circle?'
DTSTART;TZID=Europe/Berlin:20191126T181500
DTEND;TZID=Europe/Berlin:20191126T194500
DTSTAMP:20260421T133301Z
UID:d9da6dcd7b4b4be6b2b14d0f0944af09@www.uni-marburg.de
CREATED:20191001T155838Z
DESCRIPTION:https://www.uni-marburg.de/de/cnms/aktuelles/termine/dr-michae
 l-lueders-wie-im-roman-der-circle\nGedanken über ein selbstbestimmtes (Be
 rufs-) Leben unter den Marktbedingungen des Neoliberalismus
LAST-MODIFIED:20191001T155946Z
LOCATION:CNMS\, Deutschhausstr. 12\, Hörsaal (00A26)
URL:https://www.uni-marburg.de/de/cnms/aktuelles/termine/dr-michael-lueder
 s-wie-im-roman-der-circle
END:VEVENT
BEGIN:VTIMEZONE
TZID:Europe/Berlin
X-LIC-LOCATION:Europe/Berlin
BEGIN:STANDARD
DTSTART:20191027T020000
TZNAME:CET
TZOFFSETFROM:+0200
TZOFFSETTO:+0100
END:STANDARD
END:VTIMEZONE
END:VCALENDAR
