BEGIN:VCALENDAR
VERSION:2.0
PRODID:-//Plone.org//NONSGML plone.app.event//EN
X-WR-TIMEZONE:Europe/Berlin
BEGIN:VEVENT
SUMMARY:Eindrücke von Afghanistan 2013-2017 - Land\, Leute und die Sicher
 heit
DTSTART;TZID=Europe/Berlin:20190523T181500
DTEND;TZID=Europe/Berlin:20190523T194500
DTSTAMP:20260424T155448Z
UID:9a9286c2b2684cc5933272df81ce39eb@www.uni-marburg.de
CREATED:20190322T030322Z
DESCRIPTION:https://www.uni-marburg.de/de/cnms/aktuelles/termine/eindrueck
 e-von-afghanistan-2013-2017-land-leute-und-die-sicherheit\nProf. Dr. Micha
 el Keusgen\, Philipps-Universität Marburg/FB Pharmazie
LAST-MODIFIED:20190520T143728Z
LOCATION:Centrum für Nah- und Mittelost-Studien\, Deutschhausstraße 12\,
  Raum 00A026 (Hörsaal)
URL:https://www.uni-marburg.de/de/cnms/aktuelles/termine/eindruecke-von-af
 ghanistan-2013-2017-land-leute-und-die-sicherheit
END:VEVENT
BEGIN:VTIMEZONE
TZID:Europe/Berlin
X-LIC-LOCATION:Europe/Berlin
BEGIN:DAYLIGHT
DTSTART:20190331T030000
TZNAME:CEST
TZOFFSETFROM:+0100
TZOFFSETTO:+0200
END:DAYLIGHT
END:VTIMEZONE
END:VCALENDAR
