BEGIN:VCALENDAR
VERSION:2.0
PRODID:-//Plone.org//NONSGML plone.app.event//EN
X-WR-TIMEZONE:Europe/Berlin
BEGIN:VEVENT
SUMMARY:Ex-Centric Directions: The Maghreb in the Wake of Trans-Mediterran
 ean Clandestine Crossings
DTSTART;TZID=Europe/Berlin:20180522T161500
DTEND;TZID=Europe/Berlin:20180522T174500
DTSTAMP:20260424T204857Z
UID:4458e097f97c4764b7193c8efa3cc896@www.uni-marburg.de
CREATED:20180503T190041Z
DESCRIPTION:https://www.uni-marburg.de/de/cnms/aktuelles/termine/ex-centri
 c-directions-the-maghreb-in-the-wake-of-trans-mediterranean-clandestine-cr
 ossings\nHakim Abderrezak\, University of Minnesota\, Twin Cities
LAST-MODIFIED:20180504T070023Z
LOCATION:CNMS\, Deutschhausstraße 12\, Room 00A23 (ground floor)
URL:https://www.uni-marburg.de/de/cnms/aktuelles/termine/ex-centric-direct
 ions-the-maghreb-in-the-wake-of-trans-mediterranean-clandestine-crossings
END:VEVENT
BEGIN:VTIMEZONE
TZID:Europe/Berlin
X-LIC-LOCATION:Europe/Berlin
BEGIN:DAYLIGHT
DTSTART:20180325T030000
TZNAME:CEST
TZOFFSETFROM:+0100
TZOFFSETTO:+0200
END:DAYLIGHT
END:VTIMEZONE
END:VCALENDAR
