BEGIN:VCALENDAR
VERSION:2.0
PRODID:-//Plone.org//NONSGML plone.app.event//EN
X-WR-TIMEZONE:Europe/Berlin
BEGIN:VEVENT
SUMMARY:Filmabend der Iranistik\, Doku-Film "Sonita" mit Einführung und D
 iskussionsrunde
DTSTART;TZID=Europe/Berlin:20220614T180000
DTEND;TZID=Europe/Berlin:20220614T200000
DTSTAMP:20260424T210240Z
UID:aaf3f66171884560979567d044f4221e@www.uni-marburg.de
CREATED:20220413T165101Z
DESCRIPTION:https://www.uni-marburg.de/de/cnms/aktuelles/termine/filmabend
 -der-iranistik-doku-film-sonita-mit-einfuehrung-und-diskussionsrunde\n
LAST-MODIFIED:20220413T165121Z
LOCATION:00A26\, Deutschhausstraße 12\, 35032 Marburg
URL:https://www.uni-marburg.de/de/cnms/aktuelles/termine/filmabend-der-ira
 nistik-doku-film-sonita-mit-einfuehrung-und-diskussionsrunde
END:VEVENT
BEGIN:VTIMEZONE
TZID:Europe/Berlin
X-LIC-LOCATION:Europe/Berlin
BEGIN:DAYLIGHT
DTSTART:20220327T030000
TZNAME:CEST
TZOFFSETFROM:+0100
TZOFFSETTO:+0200
END:DAYLIGHT
END:VTIMEZONE
END:VCALENDAR
