BEGIN:VCALENDAR
VERSION:2.0
PRODID:-//Plone.org//NONSGML plone.app.event//EN
X-WR-TIMEZONE:Europe/Berlin
BEGIN:VEVENT
SUMMARY:Filmabend: Farha
DTSTART;TZID=Europe/Berlin:20230124T180000
DTEND;TZID=Europe/Berlin:20230124T200000
DTSTAMP:20260419T163235Z
UID:e2a28c5a7e6d4b4c80b55d10fe2f10a7@www.uni-marburg.de
CREATED:20230117T155427Z
DESCRIPTION:https://www.uni-marburg.de/de/cnms/aktuelles/termine/filmabend
 -farha\nCNMS Welcome und die Fachschaft laden herzlich zum Filmabend am CN
 MS ein.\n\nIn dem Film "Farha" geht es um ein 14-jähriges palästinensisc
 hes Mädchen\, das die ethnische Säuberung ihres Dorfes durch zionistisch
 e Milizen\nim Zuge der Nakba 1948 miterlebt.
LAST-MODIFIED:20230117T165803Z
LOCATION:Hörsaal CNMS
URL:https://www.uni-marburg.de/de/cnms/aktuelles/termine/filmabend-farha
END:VEVENT
BEGIN:VTIMEZONE
TZID:Europe/Berlin
X-LIC-LOCATION:Europe/Berlin
BEGIN:STANDARD
DTSTART:20221030T020000
TZNAME:CET
TZOFFSETFROM:+0200
TZOFFSETTO:+0100
END:STANDARD
END:VTIMEZONE
END:VCALENDAR
