BEGIN:VCALENDAR
VERSION:2.0
PRODID:-//Plone.org//NONSGML plone.app.event//EN
X-WR-TIMEZONE:Europe/Berlin
BEGIN:VEVENT
SUMMARY:Filmabend Iranistik zum Themenschwerpunkt „Protest und Partizipa
 tion: Frauen in Iran“
DTSTART;TZID=Europe/Berlin:20230110T180000
DTEND;TZID=Europe/Berlin:20230110T200000
DTSTAMP:20260425T181937Z
UID:cb2b1f6bc8714cb3af831b2107b15c98@www.uni-marburg.de
CREATED:20221010T112110Z
DESCRIPTION:https://www.uni-marburg.de/de/cnms/aktuelles/termine/filmabend
 -iranistik-zum-themenschwerpunkt-protest-und-partizipation-frauen-in-iran\
 nThemenschwerpunkt WS 22/23
LAST-MODIFIED:20221013T102242Z
LOCATION:Marburg\, CNMS\, 00A26
URL:https://www.uni-marburg.de/de/cnms/aktuelles/termine/filmabend-iranist
 ik-zum-themenschwerpunkt-protest-und-partizipation-frauen-in-iran
END:VEVENT
BEGIN:VTIMEZONE
TZID:Europe/Berlin
X-LIC-LOCATION:Europe/Berlin
BEGIN:STANDARD
DTSTART:20221030T020000
TZNAME:CET
TZOFFSETFROM:+0200
TZOFFSETTO:+0100
END:STANDARD
END:VTIMEZONE
END:VCALENDAR
