BEGIN:VCALENDAR
VERSION:2.0
PRODID:-//Plone.org//NONSGML plone.app.event//EN
X-WR-TIMEZONE:Europe/Berlin
BEGIN:VEVENT
SUMMARY:Filmabend WELCOME
DTSTART;TZID=Europe/Berlin:20211201T180000
DTSTAMP:20260419T163237Z
UID:099d194e65cc4a68ab4efa57e6fb8f62@www.uni-marburg.de
CREATED:20211013T123603Z
DESCRIPTION:https://www.uni-marburg.de/de/cnms/aktuelles/termine/filmabend
 -welcome\n
LAST-MODIFIED:20211013T163404Z
LOCATION:Hörsaal CNMS
URL:https://www.uni-marburg.de/de/cnms/aktuelles/termine/filmabend-welcome
END:VEVENT
BEGIN:VTIMEZONE
TZID:Europe/Berlin
X-LIC-LOCATION:Europe/Berlin
BEGIN:STANDARD
DTSTART:20211031T020000
TZNAME:CET
TZOFFSETFROM:+0200
TZOFFSETTO:+0100
END:STANDARD
END:VTIMEZONE
END:VCALENDAR
