BEGIN:VCALENDAR
VERSION:2.0
PRODID:-//Plone.org//NONSGML plone.app.event//EN
X-WR-TIMEZONE:Europe/Berlin
BEGIN:VEVENT
SUMMARY:Kaouther Ben Hania: "Der Mann\, der seine Haut verkaufte"
DTSTART;TZID=Europe/Berlin:20230125T200000
DTEND;TZID=Europe/Berlin:20230125T220000
DTSTAMP:20260424T112128Z
UID:5a86b16761fc49d09bd585a74cfc3ff7@www.uni-marburg.de
CREATED:20220927T111101Z
DESCRIPTION:https://www.uni-marburg.de/de/cnms/aktuelles/termine/filmvorfu
 ehrung-der-mann-der-seine-haut-verkaufte\nFilmvorführung im Zuge des Stud
 ium Generale der Philipps-Universität Marburg im Wintersemester 2022/23
LAST-MODIFIED:20230111T112210Z
LOCATION:Capitol Filmkunsttheater\, Biegenstraße 8\, 35037 Marburg
URL:https://www.uni-marburg.de/de/cnms/aktuelles/termine/filmvorfuehrung-d
 er-mann-der-seine-haut-verkaufte
END:VEVENT
BEGIN:VTIMEZONE
TZID:Europe/Berlin
X-LIC-LOCATION:Europe/Berlin
BEGIN:STANDARD
DTSTART:20221030T020000
TZNAME:CET
TZOFFSETFROM:+0200
TZOFFSETTO:+0100
END:STANDARD
END:VTIMEZONE
END:VCALENDAR
