BEGIN:VCALENDAR
VERSION:2.0
PRODID:-//Plone.org//NONSGML plone.app.event//EN
X-WR-TIMEZONE:Europe/Berlin
BEGIN:VEVENT
SUMMARY:Forschungswerkstatt Extraktivismus: Ressourcenkonflikte im Globale
 n Süden
DTSTART;TZID=Europe/Berlin:20240521T090000
DTEND;TZID=Europe/Berlin:20240521T160000
DTSTAMP:20260425T020128Z
UID:6f9a3ca7491e4cc89e98e5422d30ccad@www.uni-marburg.de
CREATED:20240416T124741Z
DESCRIPTION:https://www.uni-marburg.de/de/cnms/aktuelles/termine/forschung
 swerkstatt-extraktivismus-ressourcenkonflikte-im-globalen-sueden\nRohstoff
 extraktivismus in Lateinamerika und im Maghreb
LAST-MODIFIED:20240514T064501Z
LOCATION:CNMS\, 01A03
URL:https://www.uni-marburg.de/de/cnms/aktuelles/termine/forschungswerksta
 tt-extraktivismus-ressourcenkonflikte-im-globalen-sueden
END:VEVENT
BEGIN:VTIMEZONE
TZID:Europe/Berlin
X-LIC-LOCATION:Europe/Berlin
BEGIN:DAYLIGHT
DTSTART:20240331T030000
TZNAME:CEST
TZOFFSETFROM:+0100
TZOFFSETTO:+0200
END:DAYLIGHT
END:VTIMEZONE
END:VCALENDAR
