BEGIN:VCALENDAR
VERSION:2.0
PRODID:-//Plone.org//NONSGML plone.app.event//EN
X-WR-TIMEZONE:Europe/Berlin
BEGIN:VEVENT
SUMMARY:Gab es ein islamisches Mittelalter?
DTSTART;TZID=Europe/Berlin:20190702T181500
DTEND;TZID=Europe/Berlin:20190702T194500
DTSTAMP:20260419T163233Z
UID:fb84a9c309354cdfb7e12ac22b013db6@www.uni-marburg.de
CREATED:20190322T031416Z
DESCRIPTION:https://www.uni-marburg.de/de/cnms/aktuelles/termine/gab-es-ei
 n-islamisches-mittelalter\nProf. Dr. Thomas Bauer
LAST-MODIFIED:20190402T190850Z
LOCATION:Centrum für Nah- und Mittelost-Studien\, Deutschhausstraße 12\,
  Raum 00A026 (Hörsaal)
URL:https://www.uni-marburg.de/de/cnms/aktuelles/termine/gab-es-ein-islami
 sches-mittelalter
END:VEVENT
BEGIN:VTIMEZONE
TZID:Europe/Berlin
X-LIC-LOCATION:Europe/Berlin
BEGIN:DAYLIGHT
DTSTART:20190331T030000
TZNAME:CEST
TZOFFSETFROM:+0100
TZOFFSETTO:+0200
END:DAYLIGHT
END:VTIMEZONE
END:VCALENDAR
