BEGIN:VCALENDAR
VERSION:2.0
PRODID:-//Plone.org//NONSGML plone.app.event//EN
X-WR-TIMEZONE:Europe/Berlin
BEGIN:VEVENT
SUMMARY:Gap O Goft
DTSTART;TZID=Europe/Berlin:20260518T180000
DTEND;TZID=Europe/Berlin:20260518T200000
DTSTAMP:20260424T071959Z
UID:954fe939e0204166890cb10b7b16ec6c@www.uni-marburg.de
CREATED:20260420T122232Z
DESCRIPTION:https://www.uni-marburg.de/de/cnms/aktuelles/termine/gap-o-gof
 t-2\n
LAST-MODIFIED:20260420T122243Z
LOCATION:00A23\, Deutschhausstraße 12\, 35032 Marburg
URL:https://www.uni-marburg.de/de/cnms/aktuelles/termine/gap-o-goft-2
END:VEVENT
BEGIN:VTIMEZONE
TZID:Europe/Berlin
X-LIC-LOCATION:Europe/Berlin
BEGIN:DAYLIGHT
DTSTART:20260329T030000
TZNAME:CEST
TZOFFSETFROM:+0100
TZOFFSETTO:+0200
END:DAYLIGHT
END:VTIMEZONE
END:VCALENDAR
