BEGIN:VCALENDAR
VERSION:2.0
PRODID:-//Plone.org//NONSGML plone.app.event//EN
X-WR-TIMEZONE:Europe/Berlin
BEGIN:VEVENT
SUMMARY:Uncovering a basilect: The case of the Jewish Arabic dialect of Nu
 saybin/Qamishli
DTSTART;TZID=Europe/Berlin:20241127T180000
DTEND;TZID=Europe/Berlin:20241127T200000
DTSTAMP:20260421T011532Z
UID:a2df7f7b1903425992d1456df05ac719@www.uni-marburg.de
ATTENDEE;CN="Dr. Assaf Bar-Moshe";ROLE=REQ-PARTICIPANT:Dr. Assaf Bar-Moshe
CREATED:20241010T124603Z
DESCRIPTION:https://www.uni-marburg.de/de/cnms/aktuelles/termine/gastvortr
 ag-dr-assaf-bar-moshe-titel-folgt\nGastvortrag Semitistik
LAST-MODIFIED:20241023T130414Z
LOCATION:CNMS Hörsaal 00A26
URL:https://www.uni-marburg.de/de/cnms/aktuelles/termine/gastvortrag-dr-as
 saf-bar-moshe-titel-folgt
END:VEVENT
BEGIN:VTIMEZONE
TZID:Europe/Berlin
X-LIC-LOCATION:Europe/Berlin
BEGIN:STANDARD
DTSTART:20241027T020000
TZNAME:CET
TZOFFSETFROM:+0200
TZOFFSETTO:+0100
END:STANDARD
END:VTIMEZONE
END:VCALENDAR
