BEGIN:VCALENDAR
VERSION:2.0
PRODID:-//Plone.org//NONSGML plone.app.event//EN
X-WR-TIMEZONE:Europe/Berlin
BEGIN:VEVENT
SUMMARY:Gastvortrag Zsuzsanna Ardo: Mahsa Amini: /HerStory -- Women Who Wa
 lk through Walls/ (a diptych)
DTSTART;TZID=Europe/Berlin:20241114T181500
DTEND;TZID=Europe/Berlin:20241114T194500
DTSTAMP:20260425T203131Z
UID:fa21149f4c4e464c84948f642af339c0@www.uni-marburg.de
ATTENDEE;CN=" Zsuzsanna Ardo";ROLE=REQ-PARTICIPANT: Zsuzsanna Ardo
CREATED:20241004T152157Z
DESCRIPTION:https://www.uni-marburg.de/de/cnms/aktuelles/termine/gastvortr
 ag-zsuzsanna-ardo-mahsa-amini-herstory-women-who-walk-through-walls-a-dipt
 ych\n
LAST-MODIFIED:20241014T135026Z
LOCATION:CNMS Hörsaal 00A26
URL:https://www.uni-marburg.de/de/cnms/aktuelles/termine/gastvortrag-zsuzs
 anna-ardo-mahsa-amini-herstory-women-who-walk-through-walls-a-diptych
END:VEVENT
BEGIN:VTIMEZONE
TZID:Europe/Berlin
X-LIC-LOCATION:Europe/Berlin
BEGIN:STANDARD
DTSTART:20241027T020000
TZNAME:CET
TZOFFSETFROM:+0200
TZOFFSETTO:+0100
END:STANDARD
END:VTIMEZONE
END:VCALENDAR
