BEGIN:VCALENDAR
VERSION:2.0
PRODID:-//Plone.org//NONSGML plone.app.event//EN
X-WR-TIMEZONE:Europe/Berlin
BEGIN:VEVENT
SUMMARY:Geschwüre und Eiterungen. Über den Ausbau medizinischer Fachspra
 che im antiken Griechenland
DTSTART;TZID=Europe/Berlin:20211101T180000
DTEND;TZID=Europe/Berlin:20211101T200000
DTSTAMP:20260425T160347Z
UID:dc6d3773ba964708b3f1c2bf6de126e2@www.uni-marburg.de
ATTENDEE;CN="Ulrich Geupel, M.A. (Vergleichende Sprachwissenschaft und Kel
 tologie, Philipps-Universität Marburg)";ROLE=REQ-PARTICIPANT:Ulrich Geupe
 l, M.A. (Vergleichende Sprachwissenschaft und Keltologie, Philipps-Univers
 ität Marburg)
CREATED:20211101T121957Z
DESCRIPTION:https://www.uni-marburg.de/de/cnms/aktuelles/termine/geschwuer
 e-und-eiterungen-ueber-den-ausbau-medizinischer-fachsprache-im-antiken-gri
 echenland\nDie Ringvorlesung des "Marburger Centrum(s) für Antike Welt" w
 ird im Wintersemester 2021/22 unter dem Hashtag #StayingAliveAntiquity unt
 erschiedliche Referentinnen und Referenten zum übergeordneten Thema "Gesu
 ndheit und Krankheit im Altertum" zu Wort kommen lassen.
LAST-MODIFIED:20211101T122024Z
LOCATION:Hybrid: Digital via WebEx / In Präsenz: Biegenstraße 14\, Hörs
 aalgebäude (B | 01)\, +1/0020
URL:https://www.uni-marburg.de/de/cnms/aktuelles/termine/geschwuere-und-ei
 terungen-ueber-den-ausbau-medizinischer-fachsprache-im-antiken-griechenlan
 d
END:VEVENT
BEGIN:VTIMEZONE
TZID:Europe/Berlin
X-LIC-LOCATION:Europe/Berlin
BEGIN:STANDARD
DTSTART:20211031T020000
TZNAME:CET
TZOFFSETFROM:+0200
TZOFFSETTO:+0100
END:STANDARD
END:VTIMEZONE
END:VCALENDAR
