BEGIN:VCALENDAR
VERSION:2.0
PRODID:-//Plone.org//NONSGML plone.app.event//EN
X-WR-TIMEZONE:Europe/Berlin
BEGIN:VEVENT
SUMMARY:Griechische Medizin und arabische Kultur - Das Fortleben antiker W
 issenschaft im Kalifenreich
DTSTART;TZID=Europe/Berlin:20220131T180000
DTEND;TZID=Europe/Berlin:20220131T200000
DTSTAMP:20260425T233143Z
UID:257d9492846746a1893f141776cd4f8b@www.uni-marburg.de
ATTENDEE;CN="Prof. Dr. Stefan Weninger (Semitistik, Philipps-Universität 
 Marburg)";ROLE=REQ-PARTICIPANT:Prof. Dr. Stefan Weninger (Semitistik, Phil
 ipps-Universität Marburg)
CREATED:20211101T123607Z
DESCRIPTION:https://www.uni-marburg.de/de/cnms/aktuelles/termine/griechisc
 he-medizin-und-arabische-kultur-das-fortleben-antiker-wissenschaft-im-kali
 fenreich\nDie Ringvorlesung des "Marburger Centrum(s) für Antike Welt" wi
 rd im Wintersemester 2021/22 unter dem Hashtag #StayingAliveAntiquity unte
 rschiedliche Referentinnen und Referenten zum übergeordneten Thema "Gesun
 dheit und Krankheit im Altertum" zu Wort kommen lassen.
LAST-MODIFIED:20211101T123622Z
LOCATION:Hybrid: Digital via WebEx / In Präsenz: Biegenstraße 14\, Hörs
 aalgebäude (B | 01)\, +1/0020
URL:https://www.uni-marburg.de/de/cnms/aktuelles/termine/griechische-mediz
 in-und-arabische-kultur-das-fortleben-antiker-wissenschaft-im-kalifenreich
END:VEVENT
BEGIN:VTIMEZONE
TZID:Europe/Berlin
X-LIC-LOCATION:Europe/Berlin
BEGIN:STANDARD
DTSTART:20211031T020000
TZNAME:CET
TZOFFSETFROM:+0200
TZOFFSETTO:+0100
END:STANDARD
END:VTIMEZONE
END:VCALENDAR
