BEGIN:VCALENDAR
VERSION:2.0
PRODID:-//Plone.org//NONSGML plone.app.event//EN
X-WR-TIMEZONE:Europe/Berlin
BEGIN:VEVENT
SUMMARY:GRK Gastvortrag: The Rituals of the Lamentation Priest and the Inc
 antation Priest in Ancient Mesopotamia: Emotions and Experience
DTSTART;TZID=Europe/Berlin:20251118T180000
DTEND;TZID=Europe/Berlin:20251118T200000
DTSTAMP:20260425T234347Z
UID:4e882a12f540400082da5d501084d78c@www.uni-marburg.de
ATTENDEE;CN="Uri Gabbay, Hebrew University Jerusalem";ROLE=REQ-PARTICIPANT
 :Uri Gabbay, Hebrew University Jerusalem
CATEGORIES:()
CREATED:20251112T081731Z
DESCRIPTION:https://www.uni-marburg.de/de/cnms/aktuelles/termine/grk-gastv
 ortrag-the-rituals-of-the-lamentation-priest-and-the-incantation-priest-in
 -ancient-mesopotamia-emotions-and-experience\n
LAST-MODIFIED:20251112T081854Z
LOCATION:00A26
URL:https://www.uni-marburg.de/de/cnms/aktuelles/termine/grk-gastvortrag-t
 he-rituals-of-the-lamentation-priest-and-the-incantation-priest-in-ancient
 -mesopotamia-emotions-and-experience
END:VEVENT
BEGIN:VTIMEZONE
TZID:Europe/Berlin
X-LIC-LOCATION:Europe/Berlin
BEGIN:STANDARD
DTSTART:20251026T020000
TZNAME:CET
TZOFFSETFROM:+0200
TZOFFSETTO:+0100
END:STANDARD
END:VTIMEZONE
END:VCALENDAR
