BEGIN:VCALENDAR
VERSION:2.0
PRODID:-//Plone.org//NONSGML plone.app.event//EN
X-WR-TIMEZONE:Europe/Berlin
BEGIN:VEVENT
SUMMARY:Grundlagenarbeit - Antisemitismus erkennen und verstehen
DTSTART;TZID=Europe/Berlin:20250123T160000
DTEND;TZID=Europe/Berlin:20250123T200000
DTSTAMP:20260424T043150Z
UID:4d7136fa77564c4092c8e09d4ff92e61@www.uni-marburg.de
ATTENDEE;CN="Gleichstellungsbeauftragte Fremdsprachliche Philologien";ROLE
 =REQ-PARTICIPANT:Gleichstellungsbeauftragte Fremdsprachliche Philologien
CREATED:20250108T154017Z
DESCRIPTION:https://www.uni-marburg.de/de/cnms/aktuelles/termine/grundlage
 narbeit-antisemitismus-erkennen-und-verstehen\nEigentlich gilt die Philfak
  in Marburg als progressiver Ort\, aber kurz vor den Semesterferien häuft
 en sich Hakenkreuzschmierereien in den Fahrstühlen des D-Turmes. Wie kann
  das sein? Um diese Frage auf den Grund zu gehen sollen in diesem Workshop
  Wirkmechanismen des Antisemitismus genauer betrachtet werden. Dieser Work
 shop wird von der Gleichstellungsbeauftragten des FB10 und CNMS in Koopera
 tion mit der Bildungsstätte Anne Frank organisiert. Sowohl Studierende al
 s auch Beschäftigte der Philipps-Universität Marburg sind alle herzlich 
 willkommen!\nMit Anmeldung!
LAST-MODIFIED:20250108T154023Z
LOCATION:Wird nach Anmeldung bekannt gegeben
URL:https://www.uni-marburg.de/de/cnms/aktuelles/termine/grundlagenarbeit-
 antisemitismus-erkennen-und-verstehen
END:VEVENT
BEGIN:VTIMEZONE
TZID:Europe/Berlin
X-LIC-LOCATION:Europe/Berlin
BEGIN:STANDARD
DTSTART:20241027T020000
TZNAME:CET
TZOFFSETFROM:+0200
TZOFFSETTO:+0100
END:STANDARD
END:VTIMEZONE
END:VCALENDAR
