BEGIN:VCALENDAR
VERSION:2.0
PRODID:-//Plone.org//NONSGML plone.app.event//EN
X-WR-TIMEZONE:Europe/Berlin
BEGIN:VEVENT
SUMMARY:Halqa Arabiyya
DTSTART;TZID=Europe/Berlin:20250508T180000
DTEND;TZID=Europe/Berlin:20250508T200000
DTSTAMP:20260419T160755Z
UID:0dc34a5097ae41aaa5ff9ef88dce4b5b@www.uni-marburg.de
ATTENDEE;CN="Asmaa Youssef (BA NMS)";ROLE=REQ-PARTICIPANT:Asmaa Youssef (B
 A NMS)
CREATED:20250414T110609Z
DESCRIPTION:https://www.uni-marburg.de/de/cnms/aktuelles/termine/halqa-ara
 biyya-14\nAsmaa Youssef (BA NMS): Kinderehen im Islam
LAST-MODIFIED:20250414T110616Z
LOCATION:CNMS 00A23
URL:https://www.uni-marburg.de/de/cnms/aktuelles/termine/halqa-arabiyya-14
END:VEVENT
BEGIN:VTIMEZONE
TZID:Europe/Berlin
X-LIC-LOCATION:Europe/Berlin
BEGIN:DAYLIGHT
DTSTART:20250330T030000
TZNAME:CEST
TZOFFSETFROM:+0100
TZOFFSETTO:+0200
END:DAYLIGHT
END:VTIMEZONE
END:VCALENDAR
