BEGIN:VCALENDAR
VERSION:2.0
PRODID:-//Plone.org//NONSGML plone.app.event//EN
X-WR-TIMEZONE:Europe/Berlin
BEGIN:VEVENT
SUMMARY:'Hama lam tamut wa-Suriyya lan tamut‘ (Hama ist nicht gestorben 
 und Syrien wird nicht sterben) - Das Massaker von Hama als Symbol der syri
 schen Revolution (2011/2024)
DTSTART;TZID=Europe/Berlin:20250210T180000
DTEND;TZID=Europe/Berlin:20250210T200000
DTSTAMP:20260425T215023Z
UID:2662ef09276e48c083dca2087e45ebeb@www.uni-marburg.de
ATTENDEE;CN="Dr. Anna Scheiter";ROLE=REQ-PARTICIPANT:Dr. Anna Scheiter
CREATED:20250108T145351Z
DESCRIPTION:https://www.uni-marburg.de/de/cnms/aktuelles/termine/hama-lam-
 tamut-wa-suriyya-lan-tamut-hama-ist-nicht-gestorben-und-syrien-wird-nicht-
 sterben-das-massaker-von-hama-als-symbol-der-syrischen-revolution-2011-202
 4\nSyrien-Vortragsreihe FG Politik/Arabistik
LAST-MODIFIED:20250204T082746Z
LOCATION:CNMS 00A23
URL:https://www.uni-marburg.de/de/cnms/aktuelles/termine/hama-lam-tamut-wa
 -suriyya-lan-tamut-hama-ist-nicht-gestorben-und-syrien-wird-nicht-sterben-
 das-massaker-von-hama-als-symbol-der-syrischen-revolution-2011-2024
END:VEVENT
BEGIN:VTIMEZONE
TZID:Europe/Berlin
X-LIC-LOCATION:Europe/Berlin
BEGIN:STANDARD
DTSTART:20241027T020000
TZNAME:CET
TZOFFSETFROM:+0200
TZOFFSETTO:+0100
END:STANDARD
END:VTIMEZONE
END:VCALENDAR
