BEGIN:VCALENDAR
VERSION:2.0
PRODID:-//Plone.org//NONSGML plone.app.event//EN
X-WR-TIMEZONE:Europe/Berlin
BEGIN:VEVENT
SUMMARY:Heil für Alle? Jesu Heilungswunder und ihre Kritik von der Aufkl
 ärung bis zu den Disability Studies
DTSTART;TZID=Europe/Berlin:20220207T180000
DTEND;TZID=Europe/Berlin:20220207T200000
DTSTAMP:20260425T202908Z
UID:4b0447b60c4d47a1852242eedd010ec3@www.uni-marburg.de
ATTENDEE;CN="Prof. Dr. Angela Standhartinger (Evangelische Theologie - Neu
 es Testament, Philipps-Universität Marburg) ";ROLE=REQ-PARTICIPANT:Prof. 
 Dr. Angela Standhartinger (Evangelische Theologie - Neues Testament, Phili
 pps-Universität Marburg) 
CREATED:20211101T123853Z
DESCRIPTION:https://www.uni-marburg.de/de/cnms/aktuelles/termine/heil-fuer
 -alle-jesu-heilungswunder-und-ihre-kritik-von-der-aufklaerung-bis-zu-den-d
 isability-studies\nDie Ringvorlesung des "Marburger Centrum(s) für Antike
  Welt" wird im Wintersemester 2021/22 unter dem Hashtag #StayingAliveAntiq
 uity unterschiedliche Referentinnen und Referenten zum übergeordneten The
 ma "Gesundheit und Krankheit im Altertum" zu Wort kommen lassen.
LAST-MODIFIED:20211101T123859Z
LOCATION:Hybrid: Digital via WebEx / In Präsenz: Biegenstraße 14\, Hörs
 aalgebäude (B | 01)\, +1/0020
URL:https://www.uni-marburg.de/de/cnms/aktuelles/termine/heil-fuer-alle-je
 su-heilungswunder-und-ihre-kritik-von-der-aufklaerung-bis-zu-den-disabilit
 y-studies
END:VEVENT
BEGIN:VTIMEZONE
TZID:Europe/Berlin
X-LIC-LOCATION:Europe/Berlin
BEGIN:STANDARD
DTSTART:20211031T020000
TZNAME:CET
TZOFFSETFROM:+0200
TZOFFSETTO:+0100
END:STANDARD
END:VTIMEZONE
END:VCALENDAR
