BEGIN:VCALENDAR
VERSION:2.0
PRODID:-//Plone.org//NONSGML plone.app.event//EN
X-WR-TIMEZONE:Europe/Berlin
BEGIN:VEVENT
SUMMARY:Higher Education in Gaza  Amidst the Gaza War 2023-2024:  A Closer
  Look
DTSTART;TZID=Europe/Berlin:20240715T181500
DTEND;TZID=Europe/Berlin:20240715T194500
DTSTAMP:20260424T234029Z
UID:79f9d99494aa41ecb013af4d29cb0f0b@www.uni-marburg.de
ATTENDEE;CN="Dr. Wesam Amer";ROLE=REQ-PARTICIPANT:Dr. Wesam Amer
CREATED:20240703T095205Z
DESCRIPTION:https://www.uni-marburg.de/de/cnms/aktuelles/termine/higher-ed
 ucation-in-gaza-amidst-the-gaza-war-2023-2024-a-closer-look\n
LAST-MODIFIED:20240703T095619Z
LOCATION:CNMS\, Hörsaal 00A26 Deutschhausstraße 12\, 35032 Marburg
URL:https://www.uni-marburg.de/de/cnms/aktuelles/termine/higher-education-
 in-gaza-amidst-the-gaza-war-2023-2024-a-closer-look
END:VEVENT
BEGIN:VTIMEZONE
TZID:Europe/Berlin
X-LIC-LOCATION:Europe/Berlin
BEGIN:DAYLIGHT
DTSTART:20240331T030000
TZNAME:CEST
TZOFFSETFROM:+0100
TZOFFSETTO:+0200
END:DAYLIGHT
END:VTIMEZONE
END:VCALENDAR
