BEGIN:VCALENDAR
VERSION:2.0
PRODID:-//Plone.org//NONSGML plone.app.event//EN
X-WR-TIMEZONE:Europe/Berlin
BEGIN:VEVENT
SUMMARY:How to Rethink Israel/Palestine?
DTSTART;TZID=Europe/Berlin:20250522T180000
DTEND;TZID=Europe/Berlin:20250522T200000
DTSTAMP:20260419T052844Z
UID:d8b7ed8146254dd1bbec303e69ba1654@www.uni-marburg.de
ATTENDEE;CN="Prof. Dr. Bashir Bashir";ROLE=REQ-PARTICIPANT:Prof. Dr. Bashi
 r Bashir
CREATED:20250226T170127Z
DESCRIPTION:https://www.uni-marburg.de/de/cnms/aktuelles/termine/how-to-re
 think-israel-palestine\nThis talk argues that many central concepts\, term
 s\, vocabularies\, and notions that have governed and dominated our unders
 tanding and imagination of the politics of Israel/Palestine are losing som
 e of their ability to capture the changes and shifts that have happened in
  and on Palestine/Israel during the past few decades. Thus this talk argue
 s that there is a pressing need to rethink the politics of Israel/Palestin
 e. More specifically\, this talks seeks to examine the impact of rethinkin
 g key concepts such as national self-determination\; sovereignty\; histori
 cal reconciliation\; settler-colonialism and Apartheid\, decolonization\, 
 and federalism on developing and envisioning more inclusive and egalitaria
 n forms of joint-dwelling in  Israel/Palestine.
LAST-MODIFIED:20250228T163312Z
LOCATION:CNMS Hörsaal 00A26
URL:https://www.uni-marburg.de/de/cnms/aktuelles/termine/how-to-rethink-is
 rael-palestine
END:VEVENT
BEGIN:VTIMEZONE
TZID:Europe/Berlin
X-LIC-LOCATION:Europe/Berlin
BEGIN:DAYLIGHT
DTSTART:20250330T030000
TZNAME:CEST
TZOFFSETFROM:+0100
TZOFFSETTO:+0200
END:DAYLIGHT
END:VTIMEZONE
END:VCALENDAR
