BEGIN:VCALENDAR
VERSION:2.0
PRODID:-//Plone.org//NONSGML plone.app.event//EN
X-WR-TIMEZONE:Europe/Berlin
BEGIN:VEVENT
SUMMARY:In den Brunnen gefallen: Die Bedeutung von Kinderunfällen in der 
 Antike
DTSTART;TZID=Europe/Berlin:20220110T180000
DTEND;TZID=Europe/Berlin:20220110T200000
DTSTAMP:20260424T110639Z
UID:48f44fb55c584cb9a736395425c815f0@www.uni-marburg.de
ATTENDEE;CN="Dr. med. Lutz A. Graumann (Kinderchirurgie, UKGM Gießen";ROL
 E=REQ-PARTICIPANT:Dr. med. Lutz A. Graumann (Kinderchirurgie, UKGM Gießen
CREATED:20211101T122549Z
DESCRIPTION:https://www.uni-marburg.de/de/cnms/aktuelles/termine/in-den-br
 unnen-gefallen-die-bedeutung-von-kinderunfaellen-in-der-antike\nDie Ringvo
 rlesung des "Marburger Centrum(s) für Antike Welt" wird im Wintersemester
  2021/22 unter dem Hashtag #StayingAliveAntiquity unterschiedliche Referen
 tinnen und Referenten zum übergeordneten Thema "Gesundheit und Krankheit 
 im Altertum" zu Wort kommen lassen.
LAST-MODIFIED:20211101T122556Z
LOCATION:Hybrid: Digital via WebEx / In Präsenz: Biegenstraße 14\, Hörs
 aalgebäude (B | 01)\, +1/0020
URL:https://www.uni-marburg.de/de/cnms/aktuelles/termine/in-den-brunnen-ge
 fallen-die-bedeutung-von-kinderunfaellen-in-der-antike
END:VEVENT
BEGIN:VTIMEZONE
TZID:Europe/Berlin
X-LIC-LOCATION:Europe/Berlin
BEGIN:STANDARD
DTSTART:20211031T020000
TZNAME:CET
TZOFFSETFROM:+0200
TZOFFSETTO:+0100
END:STANDARD
END:VTIMEZONE
END:VCALENDAR
