BEGIN:VCALENDAR
VERSION:2.0
PRODID:-//Plone.org//NONSGML plone.app.event//EN
X-WR-TIMEZONE:Europe/Berlin
BEGIN:VEVENT
SUMMARY:Info-Veranstaltung für Mittelbau des FB 10 & CNMS: Vorstellung Cr
 eative Space
DTSTART;TZID=Europe/Berlin:20241210T123000
DTSTAMP:20260421T233856Z
UID:7df08db8460a42c5974b22036f91db35@www.uni-marburg.de
ATTENDEE;CN="Dr. Velia Benthin";ROLE=REQ-PARTICIPANT:Dr. Velia Benthin
CREATED:20241203T153502Z
DESCRIPTION:https://www.uni-marburg.de/de/cnms/aktuelles/termine/info-vera
 nstaltung-fuer-mittelbau-des-fb-10-cnms-vorstellung-creative-space\nDr. Ve
 lia Benthin\, Projektreferentin für „Creative Space“\, wird im Rahmen
  des Mittelbautreffens das Projekt und die entsprechenden Fördermöglichk
 eiten vorstellen sowie Fragen dazu beantworten.\n\nDas Projekt „Creative
  Space“ bietet Promovierenden und Postdocs der UMR finanzielle Unterstü
 tzung von bis zu 5000 € für interdisziplinäre Initiativen und die Einl
 adung externer Wissenschaftler*innen. Als zertifizierte Design-Thinking-Co
 ach bietet Frau Benthin Workshops zur Entwicklung innovativer Forschungsid
 een und zum Team-Building an. Darüber hinaus unterstützt sie bei der kon
 zeptionellen Planung und Durchführung von Veranstaltungen.
LAST-MODIFIED:20241203T162010Z
LOCATION:CNMS\, 01A09\, Deutschhausstraße 12
URL:https://www.uni-marburg.de/de/cnms/aktuelles/termine/info-veranstaltun
 g-fuer-mittelbau-des-fb-10-cnms-vorstellung-creative-space
END:VEVENT
BEGIN:VTIMEZONE
TZID:Europe/Berlin
X-LIC-LOCATION:Europe/Berlin
BEGIN:STANDARD
DTSTART:20241027T020000
TZNAME:CET
TZOFFSETFROM:+0200
TZOFFSETTO:+0100
END:STANDARD
END:VTIMEZONE
END:VCALENDAR
