BEGIN:VCALENDAR
VERSION:2.0
PRODID:-//Plone.org//NONSGML plone.app.event//EN
X-WR-TIMEZONE:Europe/Berlin
BEGIN:VEVENT
SUMMARY:Interactions between Birds and Humans in the Ancient Near East
DTSTART;VALUE=DATE:20221014
DTEND;VALUE=DATE:20221016
DTSTAMP:20260421T104828Z
UID:28c08c4d77e24a1f9d2e359ec8ba6cea@www.uni-marburg.de
CREATED:20220922T110412Z
DESCRIPTION:https://www.uni-marburg.de/de/cnms/aktuelles/termine/interacti
 ons-between-birds-and-humans-in-the-ancient-near-east\nAltorientalistik
LAST-MODIFIED:20220923T113818Z
LOCATION:CNMS\, 00A26 und 01A03
URL:https://www.uni-marburg.de/de/cnms/aktuelles/termine/interactions-betw
 een-birds-and-humans-in-the-ancient-near-east
END:VEVENT
END:VCALENDAR
