BEGIN:VCALENDAR
VERSION:2.0
PRODID:-//Plone.org//NONSGML plone.app.event//EN
X-WR-TIMEZONE:Europe/Berlin
BEGIN:VEVENT
SUMMARY:Dr. Hannes Warnecke-Berger & Prof. Dr. Hans-Jürgen Burchardt: Ist
  Lateinamerika zu reich für Entwicklung?
DTSTART;TZID=Europe/Berlin:20230119T180000
DTEND;TZID=Europe/Berlin:20230119T200000
DTSTAMP:20260422T005457Z
UID:8e16cb9c04c64f4ca4597d06e834ecbd@www.uni-marburg.de
ATTENDEE;CN="Dr. Hannes Warnecke-Berger, Prof. Dr. Hans-Jürgen Burchardt"
 ;ROLE=REQ-PARTICIPANT:Dr. Hannes Warnecke-Berger, Prof. Dr. Hans-Jürgen B
 urchardt
CREATED:20220927T110855Z
DESCRIPTION:https://www.uni-marburg.de/de/cnms/aktuelles/termine/ist-latei
 namerika-zu-reich-fuer-entwicklung\nRingvorlesung Extractivism
LAST-MODIFIED:20221013T103700Z
LOCATION:Kassel
URL:https://www.uni-marburg.de/de/cnms/aktuelles/termine/ist-lateinamerika
 -zu-reich-fuer-entwicklung
END:VEVENT
BEGIN:VTIMEZONE
TZID:Europe/Berlin
X-LIC-LOCATION:Europe/Berlin
BEGIN:STANDARD
DTSTART:20221030T020000
TZNAME:CET
TZOFFSETFROM:+0200
TZOFFSETTO:+0100
END:STANDARD
END:VTIMEZONE
END:VCALENDAR
