BEGIN:VCALENDAR
VERSION:2.0
PRODID:-//Plone.org//NONSGML plone.app.event//EN
X-WR-TIMEZONE:Europe/Berlin
BEGIN:VEVENT
SUMMARY:Jessica Metz (Alumna CNMS): Managing Area Studies: Vom Arabistik-S
 tudium ans Forum Transregionale Studien
DTSTART;TZID=Europe/Berlin:20220118T180000
DTSTAMP:20260424T135713Z
UID:fece669e192d496789eacd1429ad1953@www.uni-marburg.de
CREATED:20211013T130003Z
DESCRIPTION:https://www.uni-marburg.de/de/cnms/aktuelles/termine/jessica-m
 etz-alumna-cnms-managing-area-studies-vom-arabistik-studium-ans-forum-tran
 sregionale-studien\n
LAST-MODIFIED:20211013T163404Z
LOCATION:Digital
URL:https://www.uni-marburg.de/de/cnms/aktuelles/termine/jessica-metz-alum
 na-cnms-managing-area-studies-vom-arabistik-studium-ans-forum-transregiona
 le-studien
END:VEVENT
BEGIN:VTIMEZONE
TZID:Europe/Berlin
X-LIC-LOCATION:Europe/Berlin
BEGIN:STANDARD
DTSTART:20211031T020000
TZNAME:CET
TZOFFSETFROM:+0200
TZOFFSETTO:+0100
END:STANDARD
END:VTIMEZONE
END:VCALENDAR
