BEGIN:VCALENDAR
VERSION:2.0
PRODID:-//Plone.org//NONSGML plone.app.event//EN
X-WR-TIMEZONE:Europe/Berlin
BEGIN:VEVENT
SUMMARY:Karlstraße 10: In search for Muslims throughout Interwar Europe
DTSTART;TZID=Europe/Berlin:20190718T181500
DTEND;TZID=Europe/Berlin:20190718T200000
DTSTAMP:20260424T044349Z
UID:5a9b09a19bdd4f35bc09ef0ffeea29af@www.uni-marburg.de
CREATED:20190613T190408Z
DESCRIPTION:https://www.uni-marburg.de/de/cnms/aktuelles/termine/karlstras
 se-10-in-search-for-muslims-throughout-interwar-europe\nVortrag von und Fi
 lmscreening mit Prof. Dr. Amr Ryad (Katholieke Universiteit Leuven)
LAST-MODIFIED:20190718T085830Z
LOCATION:Centrum für Nah- und Mittelost-Studien\, Deutschhausstraße 12\,
  Raum 00A26 (Hörsaal)
URL:https://www.uni-marburg.de/de/cnms/aktuelles/termine/karlstrasse-10-in
 -search-for-muslims-throughout-interwar-europe
END:VEVENT
BEGIN:VTIMEZONE
TZID:Europe/Berlin
X-LIC-LOCATION:Europe/Berlin
BEGIN:DAYLIGHT
DTSTART:20190331T030000
TZNAME:CEST
TZOFFSETFROM:+0100
TZOFFSETTO:+0200
END:DAYLIGHT
END:VTIMEZONE
END:VCALENDAR
