BEGIN:VCALENDAR
VERSION:2.0
PRODID:-//Plone.org//NONSGML plone.app.event//EN
X-WR-TIMEZONE:Europe/Berlin
BEGIN:VEVENT
SUMMARY:Prof. Dr. Klaus Dörre: Klimawandel und Perspektiven sozial-ökolo
 gischer Transformation
DTSTART;TZID=Europe/Berlin:20230126T180000
DTEND;TZID=Europe/Berlin:20230126T200000
DTSTAMP:20260424T174444Z
UID:ba3aae25d47543cfb870eef20f8afd2d@www.uni-marburg.de
ATTENDEE;CN="Prof. Dr. Klaus Dörre";ROLE=REQ-PARTICIPANT:Prof. Dr. Klaus 
 Dörre
CREATED:20220927T111236Z
DESCRIPTION:https://www.uni-marburg.de/de/cnms/aktuelles/termine/klimawand
 el-und-perspektiven-sozial-oekologischer-transformation\nRingvorlesung Ext
 ractivism
LAST-MODIFIED:20230124T075953Z
LOCATION:Marburg\, CNMS\, 00A26
URL:https://www.uni-marburg.de/de/cnms/aktuelles/termine/klimawandel-und-p
 erspektiven-sozial-oekologischer-transformation
END:VEVENT
BEGIN:VTIMEZONE
TZID:Europe/Berlin
X-LIC-LOCATION:Europe/Berlin
BEGIN:STANDARD
DTSTART:20221030T020000
TZNAME:CET
TZOFFSETFROM:+0200
TZOFFSETTO:+0100
END:STANDARD
END:VTIMEZONE
END:VCALENDAR
