BEGIN:VCALENDAR
VERSION:2.0
PRODID:-//Plone.org//NONSGML plone.app.event//EN
X-WR-TIMEZONE:Europe/Berlin
BEGIN:VEVENT
SUMMARY:Prof. Dr. Stephan Lessenich: Klimawandel und Verteilung: Leben wir
  auf Kosten der Anderen?
DTSTART;TZID=Europe/Berlin:20230202T180000
DTEND;TZID=Europe/Berlin:20230202T200000
DTSTAMP:20260424T172743Z
UID:89a7be1e84b045b089d43cb83e927599@www.uni-marburg.de
ATTENDEE;CN="Prof. Dr. Stephan Lessenich";ROLE=REQ-PARTICIPANT:Prof. Dr. S
 tephan Lessenich
CREATED:20220927T112026Z
DESCRIPTION:https://www.uni-marburg.de/de/cnms/aktuelles/termine/klimawand
 el-und-verteilung-leben-wir-auf-kosten-der-anderen\nRingvorlesung Extracti
 vism
LAST-MODIFIED:20221013T105934Z
LOCATION:Kassel
URL:https://www.uni-marburg.de/de/cnms/aktuelles/termine/klimawandel-und-v
 erteilung-leben-wir-auf-kosten-der-anderen
END:VEVENT
BEGIN:VTIMEZONE
TZID:Europe/Berlin
X-LIC-LOCATION:Europe/Berlin
BEGIN:STANDARD
DTSTART:20221030T020000
TZNAME:CET
TZOFFSETFROM:+0200
TZOFFSETTO:+0100
END:STANDARD
END:VTIMEZONE
END:VCALENDAR
