BEGIN:VCALENDAR
VERSION:2.0
PRODID:-//Plone.org//NONSGML plone.app.event//EN
X-WR-TIMEZONE:Europe/Berlin
BEGIN:VEVENT
SUMMARY:König Salomo und der König der Dämonen -  über die Entstehung 
 magischer Texte
DTSTART;TZID=Europe/Berlin:20231107T180000
DTEND;TZID=Europe/Berlin:20231107T200000
DTSTAMP:20260424T125154Z
UID:a647f17ae6c346f7842dcba2197215db@www.uni-marburg.de
ATTENDEE;CN="Dr. Stefanie Rudolf";ROLE=REQ-PARTICIPANT:Dr. Stefanie Rudolf
CREATED:20231005T081707Z
DESCRIPTION:https://www.uni-marburg.de/de/cnms/aktuelles/termine/koenig-sa
 lomo-und-der-koenig-der-daemonen-ueber-die-entstehung-magischer-texte\n
LAST-MODIFIED:20231005T081721Z
LOCATION:CNMS\, 00A23\, Deutschhausstraße 12
URL:https://www.uni-marburg.de/de/cnms/aktuelles/termine/koenig-salomo-und
 -der-koenig-der-daemonen-ueber-die-entstehung-magischer-texte
END:VEVENT
BEGIN:VTIMEZONE
TZID:Europe/Berlin
X-LIC-LOCATION:Europe/Berlin
BEGIN:STANDARD
DTSTART:20231029T020000
TZNAME:CET
TZOFFSETFROM:+0200
TZOFFSETTO:+0100
END:STANDARD
END:VTIMEZONE
END:VCALENDAR
