BEGIN:VCALENDAR
VERSION:2.0
PRODID:-//Plone.org//NONSGML plone.app.event//EN
X-WR-TIMEZONE:Europe/Berlin
BEGIN:VEVENT
SUMMARY:Konferenz: Anti-Feminism and Anti-Gender Politics in Authoritarian
  Regimes
DTSTART;VALUE=DATE:20230621
DTEND;VALUE=DATE:20230624
DTSTAMP:20260425T131654Z
UID:40f951de54c34851952f7ece476ab3c7@www.uni-marburg.de
CREATED:20230530T061816Z
DESCRIPTION:https://www.uni-marburg.de/de/cnms/aktuelles/termine/konferenz
 -anti-feminism-and-anti-gender-politics-in-authoritarian-regimes\n
LAST-MODIFIED:20230613T161138Z
LOCATION:Gisonenweg 5-7\, Marburg
URL:https://www.uni-marburg.de/de/cnms/aktuelles/termine/konferenz-anti-fe
 minism-and-anti-gender-politics-in-authoritarian-regimes
END:VEVENT
END:VCALENDAR
