BEGIN:VCALENDAR
VERSION:2.0
PRODID:-//Plone.org//NONSGML plone.app.event//EN
X-WR-TIMEZONE:Europe/Berlin
BEGIN:VEVENT
SUMMARY:Prof. Dr. Sina Leipold: Kreislaufwirtschaft\, Rohstoffe und Klimaw
 andel
DTSTART;TZID=Europe/Berlin:20221215T180000
DTEND;TZID=Europe/Berlin:20221215T200000
DTSTAMP:20260421T170151Z
UID:3c4f993acf434d43bb8a52a6dc3e08af@www.uni-marburg.de
ATTENDEE;CN="Prof. Dr. Sina Leipold";ROLE=REQ-PARTICIPANT:Prof. Dr. Sina L
 eipold
CREATED:20220923T113515Z
DESCRIPTION:https://www.uni-marburg.de/de/cnms/aktuelles/termine/kreislauf
 wirtschaft-rohstoffe-und-klimawandel\nRingvorlesung Extractivism
LAST-MODIFIED:20221013T101936Z
LOCATION:Kassel
URL:https://www.uni-marburg.de/de/cnms/aktuelles/termine/kreislaufwirtscha
 ft-rohstoffe-und-klimawandel
END:VEVENT
BEGIN:VTIMEZONE
TZID:Europe/Berlin
X-LIC-LOCATION:Europe/Berlin
BEGIN:STANDARD
DTSTART:20221030T020000
TZNAME:CET
TZOFFSETFROM:+0200
TZOFFSETTO:+0100
END:STANDARD
END:VTIMEZONE
END:VCALENDAR
