BEGIN:VCALENDAR
VERSION:2.0
PRODID:-//Plone.org//NONSGML plone.app.event//EN
X-WR-TIMEZONE:Europe/Berlin
BEGIN:VEVENT
SUMMARY:So eine WM gab es noch nie!  Die Fußballweltmeisterschaft in Kata
 r
DTSTART;TZID=Europe/Berlin:20221108T180000
DTEND;TZID=Europe/Berlin:20221108T200000
DTSTAMP:20260425T052955Z
UID:4fda4c6c542b4a75b737123f7506c910@www.uni-marburg.de
ATTENDEE;CN="Leo Wigger (zenith)";ROLE=REQ-PARTICIPANT:Leo Wigger (zenith)
CREATED:20220923T111215Z
DESCRIPTION:https://www.uni-marburg.de/de/cnms/aktuelles/termine/kritische
 -perspektiven-auf-die-fussball-wm-2022-in-katar\nVortrag und Diskussion mi
 t Leo Wigger (zenith)
LAST-MODIFIED:20221025T072328Z
LOCATION:CNMS-Hörsaal (00A26)\, Deutschhausstr. 12
URL:https://www.uni-marburg.de/de/cnms/aktuelles/termine/kritische-perspek
 tiven-auf-die-fussball-wm-2022-in-katar
END:VEVENT
BEGIN:VTIMEZONE
TZID:Europe/Berlin
X-LIC-LOCATION:Europe/Berlin
BEGIN:STANDARD
DTSTART:20221030T020000
TZNAME:CET
TZOFFSETFROM:+0200
TZOFFSETTO:+0100
END:STANDARD
END:VTIMEZONE
END:VCALENDAR
