BEGIN:VCALENDAR
VERSION:2.0
PRODID:-//Plone.org//NONSGML plone.app.event//EN
X-WR-TIMEZONE:Europe/Berlin
BEGIN:VEVENT
SUMMARY:La dolce vita? - Promovieren in Italien
DTSTART;TZID=Europe/Berlin:20250114T180000
DTEND;TZID=Europe/Berlin:20250114T200000
DTSTAMP:20260424T063731Z
UID:2e315fb8bd7a406ebc768d40a1f13e24@www.uni-marburg.de
ATTENDEE;CN="Julius Strunk, Doktorand an der Scuola Normale Superiore, Ita
 lien";ROLE=REQ-PARTICIPANT:Julius Strunk, Doktorand an der Scuola Normale 
 Superiore, Italien
CREATED:20241023T125407Z
DESCRIPTION:https://www.uni-marburg.de/de/cnms/aktuelles/termine/la-dolce-
 vita-promovieren-in-italien\nCNMS Alumni Vortrag
LAST-MODIFIED:20241023T125414Z
LOCATION:CNMS / Online
URL:https://www.uni-marburg.de/de/cnms/aktuelles/termine/la-dolce-vita-pro
 movieren-in-italien
END:VEVENT
BEGIN:VTIMEZONE
TZID:Europe/Berlin
X-LIC-LOCATION:Europe/Berlin
BEGIN:STANDARD
DTSTART:20241027T020000
TZNAME:CET
TZOFFSETFROM:+0200
TZOFFSETTO:+0100
END:STANDARD
END:VTIMEZONE
END:VCALENDAR
